BEGIN:VCALENDAR
VERSION:2.0
CALSCALE:GREGORIAN
METHOD:PUBLISH
X-WR-TIMEZONE:Australia/Sydney
BEGIN:VTIMEZONE
TZID:Australia/Sydney
BEGIN:STANDARD
TZNAME:AEST
END:STANDARD
END:VTIMEZONE
BEGIN:VEVENT
DTSTART;TZID=Australia/Sydney:20240419T090000
DTEND;TZID=Australia/Sydney:20240419T110000
DTSTAMP:20260420T114137
UID:2411
SUMMARY:Inter-school Sport 5/6- Away (Dunstan Reserve)
DESCRIPTION:Join with Google Meet: https://meet.google.com/jzh-zdaa-qgk
SEQUENCE:0
STATUS:CONFIRMED
TRANSP:OPAQUE
END:VEVENT
END:VCALENDAR